BEGIN:VCALENDAR
VERSION:2.0
PRODID:-//Travel to Croatia  - Recommended by Krunoslav Grgic - ECPv4.9.6//NONSGML v1.0//EN
CALSCALE:GREGORIAN
METHOD:PUBLISH
X-WR-CALNAME:Travel to Croatia  - Recommended by Krunoslav Grgic
X-ORIGINAL-URL:https://www.krunoslavgrgic.com
X-WR-CALDESC:Events for Travel to Croatia  - Recommended by Krunoslav Grgic
BEGIN:VTIMEZONE
TZID:"Europe/Zagreb"
BEGIN:DAYLIGHT
TZOFFSETFROM:+0100
TZOFFSETTO:+0200
TZNAME:CEST
DTSTART:20170326T010000
END:DAYLIGHT
BEGIN:STANDARD
TZOFFSETFROM:+0200
TZOFFSETTO:+0100
TZNAME:CET
DTSTART:20171029T010000
END:STANDARD
END:VTIMEZONE
BEGIN:VEVENT
DTSTART;TZID="Europe/Zagreb":20170525T080000
DTEND;TZID="Europe/Zagreb":20170528T180000
DTSTAMP:20260421T142348
CREATED:20170525T021334Z
LAST-MODIFIED:20170525T021334Z
UID:3865-1495699200-1495994400@www.krunoslavgrgic.com
SUMMARY:Croatia Match Cup - v. 02
DESCRIPTION:Croatia Match Cup Poreč 2017 brings one of the most prestigious sailing competitions in the world\, World Match Racing Tour\, and top-notch entertainment and gastronomy to Poreč\, Croatia. \nFrom May 25th till May 28th 2017 a Croatian edition of World Match Racing Tour regatta\, accompanied by a unique event Croatia Match Cup\, will take place in the aquatorium of Peškera Bay\, Poreč\, and thus place Poreč on the map of the most prestigious sailing competitions in the world. Croatia Match Cup will bring the best sailing teams to Poreč\, including a team led by our Olympic medal winners from Rio\, Šime Fantela and Igor Marenić. \n  \n  \n
URL:https://www.krunoslavgrgic.com/eventx/croatia-match-cup-v-02/
LOCATION:Uvala – lokacija eventa\, Adresa lokacije eventa\, Zagreb\, none\, 10000\, Croatia (Local Name: Hrvatska)
CATEGORIES:Sport
ATTACH;FMTTYPE=image/jpeg:https://www.krunoslavgrgic.com/wp-content/uploads/2017/05/18698091_1451012451864165_2895558559995662680_n.jpg
END:VEVENT
END:VCALENDAR